BEGIN:VCALENDAR
VERSION:2.0
PRODID:-//National Association for College Admission Counseling (NACAC) - ECPv6.15.17.1//NONSGML v1.0//EN
CALSCALE:GREGORIAN
METHOD:PUBLISH
X-ORIGINAL-URL:https://www.nacacnet.org
X-WR-CALDESC:Events for National Association for College Admission Counseling (NACAC)
REFRESH-INTERVAL;VALUE=DURATION:PT1H
X-Robots-Tag:noindex
X-PUBLISHED-TTL:PT1H
BEGIN:VTIMEZONE
TZID:America/New_York
BEGIN:DAYLIGHT
TZOFFSETFROM:-0500
TZOFFSETTO:-0400
TZNAME:EDT
DTSTART:20240310T070000
END:DAYLIGHT
BEGIN:STANDARD
TZOFFSETFROM:-0400
TZOFFSETTO:-0500
TZNAME:EST
DTSTART:20241103T060000
END:STANDARD
BEGIN:DAYLIGHT
TZOFFSETFROM:-0500
TZOFFSETTO:-0400
TZNAME:EDT
DTSTART:20250309T070000
END:DAYLIGHT
BEGIN:STANDARD
TZOFFSETFROM:-0400
TZOFFSETTO:-0500
TZNAME:EST
DTSTART:20251102T060000
END:STANDARD
BEGIN:DAYLIGHT
TZOFFSETFROM:-0500
TZOFFSETTO:-0400
TZNAME:EDT
DTSTART:20260308T070000
END:DAYLIGHT
BEGIN:STANDARD
TZOFFSETFROM:-0400
TZOFFSETTO:-0500
TZNAME:EST
DTSTART:20261101T060000
END:STANDARD
END:VTIMEZONE
BEGIN:VEVENT
DTSTART;TZID=America/New_York:20251029T090000
DTEND;TZID=America/New_York:20251029T120000
DTSTAMP:20260421T132620
CREATED:20250806T180320Z
LAST-MODIFIED:20250806T180551Z
UID:8023-1761728400-1761739200@www.nacacnet.org
SUMMARY:NACAC National College Fair Baltimore Session 1 of 2
DESCRIPTION:Attendee Info    Exhibitor Info
URL:https://www.nacacnet.org/event_detail/nacac-national-college-fair-baltimore-session-1-of-2/
LOCATION:Baltimore Convention Center\, 1 W Pratt St\, Baltimore\, MD\, 21201\, United States
CATEGORIES:College Fair,In-Person
ATTACH;FMTTYPE=image/jpeg:https://www.nacacnet.org/wp-content/uploads/2022/10/featured-img-baltimore.jpg
END:VEVENT
BEGIN:VEVENT
DTSTART;TZID=America/New_York:20251029T180000
DTEND;TZID=America/New_York:20251029T200000
DTSTAMP:20260421T132620
CREATED:20250806T180349Z
LAST-MODIFIED:20251113T155958Z
UID:8025-1761760800-1761768000@www.nacacnet.org
SUMMARY:NACAC National College Fair Baltimore Session 2 of 2
DESCRIPTION:Attendee Info    Exhibitor Info
URL:https://www.nacacnet.org/event_detail/nacac-national-college-fair-baltimore-session-2-of-2/
LOCATION:Baltimore Convention Center\, 1 W Pratt St\, Baltimore\, MD\, 21201\, United States
CATEGORIES:College Fair,In-Person
ATTACH;FMTTYPE=image/jpeg:https://www.nacacnet.org/wp-content/uploads/2022/10/featured-img-baltimore.jpg
END:VEVENT
END:VCALENDAR