BEGIN:VCALENDAR
VERSION:2.0
PRODID:-//National Association for College Admission Counseling (NACAC) - ECPv6.15.17.1//NONSGML v1.0//EN
CALSCALE:GREGORIAN
METHOD:PUBLISH
X-ORIGINAL-URL:https://www.nacacnet.org
X-WR-CALDESC:Events for National Association for College Admission Counseling (NACAC)
REFRESH-INTERVAL;VALUE=DURATION:PT1H
X-Robots-Tag:noindex
X-PUBLISHED-TTL:PT1H
BEGIN:VTIMEZONE
TZID:America/Chicago
BEGIN:DAYLIGHT
TZOFFSETFROM:-0600
TZOFFSETTO:-0500
TZNAME:CDT
DTSTART:20240310T080000
END:DAYLIGHT
BEGIN:STANDARD
TZOFFSETFROM:-0500
TZOFFSETTO:-0600
TZNAME:CST
DTSTART:20241103T070000
END:STANDARD
BEGIN:DAYLIGHT
TZOFFSETFROM:-0600
TZOFFSETTO:-0500
TZNAME:CDT
DTSTART:20250309T080000
END:DAYLIGHT
BEGIN:STANDARD
TZOFFSETFROM:-0500
TZOFFSETTO:-0600
TZNAME:CST
DTSTART:20251102T070000
END:STANDARD
BEGIN:DAYLIGHT
TZOFFSETFROM:-0600
TZOFFSETTO:-0500
TZNAME:CDT
DTSTART:20260308T080000
END:DAYLIGHT
BEGIN:STANDARD
TZOFFSETFROM:-0500
TZOFFSETTO:-0600
TZNAME:CST
DTSTART:20261101T070000
END:STANDARD
END:VTIMEZONE
BEGIN:VEVENT
DTSTART;TZID=America/Chicago:20250910T090000
DTEND;TZID=America/Chicago:20250910T120000
DTSTAMP:20260425T110857
CREATED:20250806T182715Z
LAST-MODIFIED:20250806T182715Z
UID:7945-1757494800-1757505600@www.nacacnet.org
SUMMARY:NACAC National College Fair New Orleans Session 1 of 2
DESCRIPTION:Attendee Info    Exhibitor Info
URL:https://www.nacacnet.org/event_detail/nacac-national-college-fair-new-orleans-session-1-of-2/
LOCATION:Pontchartrain Convention & Civic Center\, 4545 Williams Blvd\, Kenner\, LA\, 70065\, United States
CATEGORIES:College Fair,In-Person
ATTACH;FMTTYPE=image/jpeg:https://www.nacacnet.org/wp-content/uploads/photo-Jackson-Square-New-Orleans-800.jpg
END:VEVENT
BEGIN:VEVENT
DTSTART;TZID=America/Chicago:20250910T180000
DTEND;TZID=America/Chicago:20250910T200000
DTSTAMP:20260425T110857
CREATED:20250806T181643Z
LAST-MODIFIED:20250806T181643Z
UID:7947-1757527200-1757534400@www.nacacnet.org
SUMMARY:NACAC National College Fair New Orleans Session 2 of 2
DESCRIPTION:Attendee Info    Exhibitor Info
URL:https://www.nacacnet.org/event_detail/nacac-national-college-fair-new-orleans-session-2-of-2/
LOCATION:Pontchartrain Convention & Civic Center\, 4545 Williams Blvd\, Kenner\, LA\, 70065\, United States
CATEGORIES:College Fair,In-Person
ATTACH;FMTTYPE=image/jpeg:https://www.nacacnet.org/wp-content/uploads/photo-Jackson-Square-New-Orleans-800.jpg
END:VEVENT
END:VCALENDAR